BEGIN:VCALENDAR
VERSION:2.0
PRODID:-//jEvents 2.0 for Joomla//EN
CALSCALE:GREGORIAN
METHOD:PUBLISH
BEGIN:VTIMEZONE
TZID:Europe/Berlin
BEGIN:STANDARD
DTSTART:20251026T020000
RDATE:20260329T030000
TZOFFSETFROM:+0200
TZOFFSETTO:+0100
TZNAME:Europe/Berlin CET
END:STANDARD
BEGIN:STANDARD
DTSTART:20261025T020000
RDATE:20270328T030000
TZOFFSETFROM:+0200
TZOFFSETTO:+0100
TZNAME:Europe/Berlin CET
END:STANDARD
BEGIN:STANDARD
DTSTART:20271031T020000
RDATE:20280326T030000
TZOFFSETFROM:+0200
TZOFFSETTO:+0100
TZNAME:Europe/Berlin CET
END:STANDARD
BEGIN:STANDARD
DTSTART:20281029T020000
RDATE:20290325T030000
TZOFFSETFROM:+0200
TZOFFSETTO:+0100
TZNAME:Europe/Berlin CET
END:STANDARD
BEGIN:STANDARD
DTSTART:20291028T020000
RDATE:20300331T030000
TZOFFSETFROM:+0200
TZOFFSETTO:+0100
TZNAME:Europe/Berlin CET
END:STANDARD
BEGIN:DAYLIGHT
DTSTART:20250507T183000
RDATE:20251026T020000
TZOFFSETFROM:+0100
TZOFFSETTO:+0200
TZNAME:Europe/Berlin CEST
END:DAYLIGHT
BEGIN:DAYLIGHT
DTSTART:20260329T030000
RDATE:20261025T020000
TZOFFSETFROM:+0100
TZOFFSETTO:+0200
TZNAME:Europe/Berlin CEST
END:DAYLIGHT
BEGIN:DAYLIGHT
DTSTART:20270328T030000
RDATE:20271031T020000
TZOFFSETFROM:+0100
TZOFFSETTO:+0200
TZNAME:Europe/Berlin CEST
END:DAYLIGHT
BEGIN:DAYLIGHT
DTSTART:20280326T030000
RDATE:20281029T020000
TZOFFSETFROM:+0100
TZOFFSETTO:+0200
TZNAME:Europe/Berlin CEST
END:DAYLIGHT
BEGIN:DAYLIGHT
DTSTART:20290325T030000
RDATE:20291028T020000
TZOFFSETFROM:+0100
TZOFFSETTO:+0200
TZNAME:Europe/Berlin CEST
END:DAYLIGHT
END:VTIMEZONE
BEGIN:VEVENT
UID:ddf4a7d7d6d201e9784313165367f025
CATEGORIES:Verein
CREATED:20260421T121922
SUMMARY:Mitgliederversammlung
LOCATION:Gaststätte AHA (Das Wirtshaus)\, Niedertor 13\, Hünfeld
DESCRIPTION:An\nalle Mitglieder\ndes Kampfsport Club Hünfeld e.V.\n\nE I N L A D U N G\
 nAm Freitag, 08. Mai 2026 findet um 18.30 Uhr in der Gaststätte AHA (Das Wi
 rtshaus),\nNiedertor 13, Hünfeld, die ordentliche Mitgliederversammlung des
  KSC Hünfeld statt.\nTagesordnung:\n1. Eröffnung und Begrüßung durch den 1.
  Vorsitzenden,\nFeststellung der ordnungsgemäßen Einladung,\nder Beschlussf
 ähigkeit sowie der Stimmberechtigung\n2. Bericht des 1. Vorsitzenden\n3. Be
 richt der Abteilungsleiter und des/der Jugendwartes/in\n4. Bericht des Kass
 enwartes\n5. Bericht der Kassenprüfer\n6. Aussprache zu den Punkten 2-5\n7.
  Entlastung des Vorstandes\n8. Verleihung Wander- und Jugendpokal/e\n9. Ant
 räge\n10. Verschiedenes\nWir weisen darauf hin, dass alle Anträge schriftli
 ch bis zum 30.04.2026 bei der\nKSC-Postanschrift eingehen müssen.\nMit spor
 tlichen Grüßen\nAlexander Traud\n1. Vorsitzender1. Vorsitzender   \n
X-ALT-DESC;FMTTYPE=text/html:<p>An<br />alle Mitglieder<br />des Kampfsport Club Hünfeld e.V.</p><p><br 
 />E I N L A D U N G</p><p>Am Freitag, 08. Mai 2026 findet um 18.30 Uhr in d
 er Gaststätte AHA (Das Wirtshaus),<br />Niedertor 13, Hünfeld, die ordentli
 che Mitgliederversammlung des KSC Hünfeld statt.<br />Tagesordnung:</p><p>1
 . Eröffnung und Begrüßung durch den 1. Vorsitzenden,<br />Feststellung der 
 ordnungsgemäßen Einladung,<br />der Beschlussfähigkeit sowie der Stimmberec
 htigung<br />2. Bericht des 1. Vorsitzenden<br />3. Bericht der Abteilungsl
 eiter und des/der Jugendwartes/in<br />4. Bericht des Kassenwartes<br />5. 
 Bericht der Kassenprüfer<br />6. Aussprache zu den Punkten 2-5<br />7. Entl
 astung des Vorstandes<br />8. Verleihung Wander- und Jugendpokal/e<br />9. 
 Anträge<br />10. Verschiedenes</p><p>Wir weisen darauf hin, dass alle Anträ
 ge schriftlich bis zum 30.04.2026 bei der<br />KSC-Postanschrift eingehen m
 üssen.<br />Mit sportlichen Grüßen<br />Alexander Traud<br />1. Vorsitzende
 r1. Vorsitzender   </p>
DTSTAMP:20260423T092045
DTSTART;TZID=Europe/Berlin:20260508T183000
SEQUENCE:0
TRANSP:OPAQUE
END:VEVENT
END:VCALENDAR